Workbook

Sheet FATURA İŞLEMİ
A1: …………...ECZANESİ | L1: 3.4. Eczacı indirim oranları, bir önceki yıl satış hasılatı (KDV hariç) üzerinden aşağıda belirtildiği şekilde uygulanacaktır; 700.000 TL' ye kadar satış hâsılatı olan eczaneler tarafından % 0 indirim, 700.001 TL ile 900.000 TL arasında satış hâsılatı olan eczaneler tarafından % 0,75 indirim, 900.001 TL ile 1.500.000 TL arasında satış hâsılatı olan eczaneler tarafından % 2,20 indirim. 1.500.000 TL üzerinde satış hâsılatı olan eczaneler tarafından % 2,75 indirim. Bununla birlikte bir önceki yıl satış hasılatı (KDV hariç) üzerinden her reçete başına; 200.000 TL’ ye kadar satış hâsılatı olan eczacıya 3 (üç) TL, 200.001 TL ile 400.000TL arasında satış hâsılatı olan eczacıya 2,50 (iki buçuk) TL, 400.001 TL ile 700.000TL arasında satış hâsılatı olan eczacıya 1,50 (bir buçuk) TL, 700.001 TL ile 900.000TL arasında satış hâsılatı olan eczacıya 75 (yetmişbeş) Kuruş, 900.001 TL ile 1.200.000TL arasında satış hâsılatı olan eczacıya 50 (elli) Kuruş, 1.200.001 TL ile 1.500.000 TL arasında satış hâsılatı olan eczacıya 40 (kırk) Kuruş, 1.500.001 TL üzerinde satış hâsılatı olan eczacıya 30 (otuz) Kuruş, hizmet bedeli ödenir. Bir önceki yıl satış hâsılatı olmayan ve yeni açılan eczaneler için en düşük indirim oranı ve en yüksek hizmet bedeli uygulanır. Ayrıca mobil reçeteler ile soğuk zincir ilaçları içeren reçetelerde, reçete başı hizmet bedeli % 50 artırımlı olarak ödenir NOT:PROTOKOLÜN BU HÜKÜMLERİ 01.04.2016 TARİHİNDEN İTİBAREN HAZIRLANAN REÇETELER İÇİNDİR.BU TARİHTEN ÖNCEKİ REÇETELER İÇİN 2012 RPOTOKOLÜ HÜKÜMLERİ ESASTIR.
A2: Yurtdışı Sigortalıları ve Hak Sahipleri Reçete Listesi
A3: SİCİL NO*
A4: İLİ*
A5: İLÇESİ*
A6: ADRESİ*
A7: TELEFON NO*
A8: REÇETE DÖNEMİ* | D8: YIL | G8: TESLİM DÖNEMİ
A9: FATURA TARİHİ
A10: FATURA NUMARASI
A11: REÇETE ADEDİ*
A12: İSKONTO ORANI*
A13: HASTA BİLGİLERİ | E13: REÇETE BİLGLERİ
A14: ADI SOYADI | D14: TC KİMLİK NO | E14: REÇETE TARİHİ | F14: MEDULA DENEME ÇIKTISI BRÜT TUTARI | G14: MEDULA DENEME ÇIKTISI İSKONTO TUTARI | H14: MEDULA DENEME ÇIKTISI İLAÇ KATILIM PAYI TUTARI | I14: ECZANE HİZMET BEDELİ | J14: ÖDENECEK TUTAR
J17: =F17-G17-H17 -> 0
J18: =F18-G18-H18 -> 0
J19: =F19-G19-H19 -> 0
J20: =F20-G20-H20 -> 0 | M20: ECZANE HİZMET BEDELİ MANUEL OLARAK YAZILACAKTIR.
J21: =F21-G21-H21 -> 0
J22: =F22-G22-H22 -> 0 | O22: FATURA TESLİM DİLEKÇESİNİ ALMAK İÇİN TIKLAYINIZ
J23: =F23-G23-H23 -> 0
J24: =F24-G24-H24 -> 0
J25: =F25-G25-H25 -> 0 | O25: TESLİM DİLEKÇESİNİ BU SAYFADAKİ TÜM BİLGİLERİ DOLDURDUKTAN SONRA ALINIZ.DİLEKÇEDEKİ İLGİLİ BÖLÜMLER BU SAYFADAKİ BİLGİLERE GÖRE OTOMATİK OLARAK HAZIRLANACAKTIR.
J26: =F26-G26-H26 -> 0
J27: =F27-G27-H27 -> 0
J28: =F28-G28-H28 -> 0
J29: =F29-G29-H29 -> 0
J30: =F30-G30-H30 -> 0
J31: =F31-G31-H31 -> 0
J32: =F32-G32-H32 -> 0
J33: =F33-G33-H33 -> 0
J34: =F34-G34-H34 -> 0
J35: =F35-G35-H35 -> 0
J36: =F36-G36-H36 -> 0
J37: =F37-G37-H37 -> 0
... J50: =F50-G50-H50 -> 0
A51: GENEL TOPLAM | F51: =SUM(F17:F50) -> 0 | G51: =SUM(G17:G50) -> 0 | H51: =SUM(H17:H50) -> 0 | I51: =SUM(I17:I50) -> 0 | J51: =SUM(J17:J50) -> 0
A52: FATURA BİLGİLERİ
A53: FATURA BRÜT TUTARI | G53: =F51 -> 0
A54: İLAÇ KATILIM PAYI TOPLAMI | G54: =H51 -> 0
A55: ECZANE İSKONTO TOPLAMI | G55: =G51 -> 0
A56: ECZANE HİZMET BEDELİ | G56: =I51 -> 0
A57: GENEL TOPLAM(ÖDENECEK TUTAR) | G57: =((G53-(G54+G55))+G56) -> 0

Sheet Sayfa1
A1: REÇETE LİSTESİ

Sheet FATURA TESLİM DİLEKÇESİ
A1: T.C.
A2: SOSYAL GÜVENLİK KURUMU BAŞKANLIĞI
A3: Bursa Sosyal Güvenlik İl Müdürlüğü
A4: Sağlık Sosyal Güvenlik Merkezi
F5: BURSA
A9: Kurumumuz yurtdışı sigortalı ve hak sahiplerinin tedavilerine ilişkin reçeteler eczanemce karşılanmış olup, ekte sunduğum reçetelerin incelenerek tarafımıza ödeme yapılmasını saygılarımla arz ederim.
G15: Kaşe/İmza
A18: Eczane Sicili : | E18: ='FATURA İŞLEMİ'!D3 -> 0
A20: Eczane Adı : | E20: ='FATURA İŞLEMİ'!A1 -> …………...ECZANESİ
A22: Faturalandırma dönemi : | E22: =CONCATENATE('FATURA İŞLEMİ'!J8," ",'FATURA İŞLEMİ'!E8)
A24: Fatura Tarihi : | E24: ='FATURA İŞLEMİ'!D9 -> 0
A26: FaturaNumarası : | E26: ='FATURA İŞLEMİ'!D10 -> 0
A28: Toplam Reçete Sayısı : | E28: ='FATURA İŞLEMİ'!D11 -> 0
A30: Fatura Toplamı (Brüt) : | E30: ='FATURA İŞLEMİ'!G53 -> 0
A32: Fatura Toplamı (Net) : | E32: ='FATURA İŞLEMİ'!G57 -> 0
A36: EKLER
A37: 1- İki adet fatura aslı ve iliştirilmiş reçete listesi
A38: 2- Reçete asılları ve ekleri
A39: 3- Reçete asıl ve eklerinin fotokopileri
A40: 4- TEB Tevzi Ekranından alınmış ve Eczacı Odasına onaylatılmış reçete listesi
A43: ÖNEMLİ UYARI Reçetelerin ekine provizyon çıktıları, hak sahipliği belgeleri varsa rapor fotokopileri ve diğer belgeleri iliştirilecek, kaşeleri ve/veya diğer kontrolleride tamamlanarak sıra numarası verilecek daha sonra bütün reçete ve eklerinin fotokopileri çekilmiş ve ayrı ayrı sıralanmış bir şekilde fatura asılları ve eki reçete listeleri ile birlikte zarf içerisine yerleştirilecek,zarf üzerine yukarıdaki dilekçe örneği iliştirilerek evrak teslim merkezine teslim edilecektir.
